BEGIN:VCALENDAR
VERSION:2.0
PRODID:-//wp-events-plugin.com//7.2.3.1//EN
BEGIN:VEVENT
UID:98@simonoak.nl
DTSTART;TZID=Europe/Amsterdam:20260517T160000
DTEND;TZID=Europe/Amsterdam:20260517T190000
DTSTAMP:20260328T184734Z
URL:https://simonoak.nl/events/lidl-dee-aldi-session-5-leiden-the-former-k
 atwijk-session/
SUMMARY:Lidl-Dee-Aldi Session #5 Leiden - The Former Katwijk Session!
DESCRIPTION:Singer-friendly Irish sessions\, that used to be in Katwijk\, n
 ow in Leiden\, every third Sunday of the month.\nCome and sing and play in
  the spirit of the rich Irish Music Tradition.\nIf I didn't invite you\, p
 lease do feel welcome. Keep an eye on this website for the latest updates.
 \nThe room is open from 15:00\, the session usually starts at about 16:00.
  Come early for a nice chat or stay longer. New: coffee\, tea and soft dri
 nks are free\, but alcoholic drinks will be 1 euro. It is actually a forme
 r supermarket\, belonging to someone's home.\nAnd don't hesitate to bring 
 your friends and fans. Listeners welcome too! Spread the word.
ATTACH;FMTTYPE=image/jpeg:https://i0.wp.com/simonoak.nl/wp-content/uploads
 /2025/12/Buurtsupersessie-Leiden.png?fit=2048%2C1536&ssl=1
LOCATION:Tesselschadestraat Leiden\, Tesselschadestraat 6 \, Leiden\, 2332 
 BJ\, Netherlands
GEO:52.16041499;4.46845295
X-APPLE-STRUCTURED-LOCATION;VALUE=URI;X-ADDRESS=Tesselschadestraat 6 \, Lei
 den\, 2332 BJ\, Netherlands;X-APPLE-RADIUS=100;X-TITLE=Tesselschadestraat 
 Leiden:geo:52.16041499,4.46845295
END:VEVENT
BEGIN:VTIMEZONE
TZID:Europe/Amsterdam
X-LIC-LOCATION:Europe/Amsterdam
BEGIN:DAYLIGHT
DTSTART:20260329T030000
TZOFFSETFROM:+0100
TZOFFSETTO:+0200
TZNAME:CEST
END:DAYLIGHT
END:VTIMEZONE
END:VCALENDAR