BEGIN:VCALENDAR
VERSION:2.0
PRODID:-//wp-events-plugin.com//7.2.3.1//EN
BEGIN:VEVENT
UID:79@simonoak.nl
DTSTART;TZID=Europe/Amsterdam:20260613T133000
DTEND;TZID=Europe/Amsterdam:20260613T150000
DTSTAMP:20260312T225230Z
URL:https://simonoak.nl/events/playing-low-at-the-jojo-2026-06-13/
SUMMARY:Playing Low at The Jojo
DESCRIPTION:\nLaten we vooral weer klein gaan spelen! Waar het kan en wanne
 er precies geven we aan elkaar door en wie waar gaat spelen of een keer ov
 erslaat laten we aan het toeval over. Zo ontstaan vast weer leuke muzikale
  ontmoetingen en toevallige kruisbestuivingen. We geven elkaar de ruimte e
 n vullen elkaar bescheiden (low) aan als het past.\n \n\n\nElke tweede en
  vierde zaterdag van de maand kan het bij De Jojo in Sassenheim. Als je ko
 mt\, zit je meestal rond een tafel en lopen er allerlei mensen in en uit\,
  dus misschien krijg je verrassende verzoeknummers te horen. Dat hebben we
  al eens meegemaakt\, naast heel veel andere leuke momenten\, zoals de Ame
 rikaanse rasmuzikant Vic die even langs kwam en met een geleende gitaar 
 een heerlijk blues begon te zingen. Hij was in Nederland in voorbereiding 
 op zijn tour met The Slackers!\n
ATTACH;FMTTYPE=image/jpeg:https://i0.wp.com/simonoak.nl/wp-content/uploads
 /2025/05/Playing-Low-Cover-Zoetermeer.jpg?fit=1600%2C904&ssl=1
LOCATION:De Jojo\, Sint Antoniuslaan 24A\, Sassenheim\, Zuid-Holland\, 2171
  EM\, Bollenstreek\, Netherlands
GEO:52.224067;4.522838
X-APPLE-STRUCTURED-LOCATION;VALUE=URI;X-ADDRESS=Sint Antoniuslaan 24A\, Sas
 senheim\, Zuid-Holland\, 2171 EM\, Bollenstreek\, Netherlands;X-APPLE-RADI
 US=100;X-TITLE=De Jojo:geo:52.224067,4.522838
END:VEVENT
BEGIN:VTIMEZONE
TZID:Europe/Amsterdam
X-LIC-LOCATION:Europe/Amsterdam
BEGIN:DAYLIGHT
DTSTART:20260329T030000
TZOFFSETFROM:+0100
TZOFFSETTO:+0200
TZNAME:CEST
END:DAYLIGHT
END:VTIMEZONE
END:VCALENDAR